BEGIN:VCALENDAR
VERSION:2.0
CALSCALE:GREGORIAN
PRODID:-//Diputació de Barcelona//DibaCMS//EN
BEGIN:VEVENT
UID:1617
DTSTAMP:20260421T172336
DTSTART:20250819T000000
DTEND:20250819T000000
SUMMARY:Camí de la Marina 2025
LOCATION:
METHOD:PUBLISH
X-WR-CALNAME:castellarh@diba.cat
X-WR-TIMEZONE:Europe/Madrid
DESCRIPTION:
URI:https://www.ajcastellardenhug.cat/actualitat/agenda/cami-de-la-marina-2025.html
CLASS:PUBLIC
END:VEVENT
END:VCALENDAR
