BEGIN:VCALENDAR
VERSION:2.0
CALSCALE:GREGORIAN
PRODID:-//Diputació de Barcelona//DibaCMS//EN
BEGIN:VEVENT
UID:1587
DTSTAMP:20260421T170838
DTSTART:20240924T000000
DTEND:20240924T000000
SUMMARY:Desfilada de bouviers 2024
LOCATION:
METHOD:PUBLISH
X-WR-CALNAME:castellarh@diba.cat
X-WR-TIMEZONE:Europe/Madrid
DESCRIPTION:
URI:https://www.ajcastellardenhug.cat/actualitat/agenda/desfilada-de-bouviers-2024.html
CLASS:PUBLIC
END:VEVENT
END:VCALENDAR
